BEGIN:VCALENDAR
VERSION:2.0
PRODID:-//Bali Trip and Tour - ECPv6.15.14//NONSGML v1.0//EN
CALSCALE:GREGORIAN
METHOD:PUBLISH
X-WR-CALNAME:Bali Trip and Tour
X-ORIGINAL-URL:https://balitripandtour.com
X-WR-CALDESC:Events for Bali Trip and Tour
REFRESH-INTERVAL;VALUE=DURATION:PT1H
X-Robots-Tag:noindex
X-PUBLISHED-TTL:PT1H
BEGIN:VTIMEZONE
TZID:Asia/Makassar
BEGIN:STANDARD
TZOFFSETFROM:+0800
TZOFFSETTO:+0800
TZNAME:WITA
DTSTART:20240101T000000
END:STANDARD
END:VTIMEZONE
BEGIN:VEVENT
DTSTART;VALUE=DATE:20250530
DTEND;VALUE=DATE:20250603
DTSTAMP:20260422T165743
CREATED:20250128T054450Z
LAST-MODIFIED:20250128T054549Z
UID:2494-1748563200-1748908799@balitripandtour.com
SUMMARY:UBUD FOOD FESTIVAL
DESCRIPTION:Ubud Food Festival \nThe Ubud Food Festival is a vibrant culinary celebration that takes place annually in the heart of Ubud\, Bali’s cultural and gastronomic hub. This renowned festival brings together food enthusiasts\, chefs\, and industry experts to celebrate Indonesia’s diverse culinary heritage and global food culture. \nHighlights:\n\nCulinary Showcases: Watch top chefs\, both local and international\, demonstrate their skills and share their passion for food.\nFood Tastings: Savor a wide array of dishes\, from traditional Balinese flavors to innovative modern creations.\nWorkshops and Classes: Participate in hands-on cooking classes\, spice blending workshops\, and food photography sessions.\nPanel Discussions: Learn about sustainable farming\, food innovation\, and Indonesia’s culinary future from industry experts.\nLocal Market Tours: Explore Ubud’s bustling markets and discover fresh\, local ingredients.\nMusic and Entertainment: Enjoy live music\, cultural performances\, and a lively atmosphere.\n\nThe Ubud Food Festival is not just about food—it’s a celebration of culture\, creativity\, and community. Whether you’re a passionate foodie or curious traveler\, this festival is a must-visit for a delicious and unforgettable experience in Bali.
URL:https://balitripandtour.com/event/ubud-food-festival/
LOCATION:Taman Kuliner – Ubud Food Festival\, Jalan Raya Sanggingan No. 88X Kedewatan Ubud\, Kedewatan\, Kec. Gianyar\, Kabupaten Gianyar\, Bali 80571\, Gianayar\, Bali\, 80571\, Indonesia
ATTACH;FMTTYPE=image/webp:https://balitripandtour.com/wp-content/uploads/2025/01/artikel-3.webp
END:VEVENT
BEGIN:VEVENT
DTSTART;VALUE=DATE:20250522
DTEND;VALUE=DATE:20250526
DTSTAMP:20260422T165743
CREATED:20250128T051110Z
LAST-MODIFIED:20250128T051110Z
UID:2480-1747872000-1748217599@balitripandtour.com
SUMMARY:UBUD OPEN STUDIO
DESCRIPTION:Ubud Open Studios is your chance to meet the minds behind the top creative studios and get an insider’s view of Ubud’s unique wealth of creativity and hidden worlds. \nThe art crawl format allows for a more personal and less intimidating approach to experiencing art. Engage in conversations with painters\, sculptors\, ceramicists\, and multimedia artists as they demonstrate their craft in real-time. This direct interaction fosters a deeper appreciation for the artistic process and the individuals behind the creations.
URL:https://balitripandtour.com/event/ubud-open-studio/
LOCATION:Elami Production\, Jl Tegal Sari 16 Ubud\, Bali Indonesia 08571\, gianyar\, Bali\, 08571\, Indonesia
ATTACH;FMTTYPE=image/png:https://balitripandtour.com/wp-content/uploads/2025/01/2.png
END:VEVENT
BEGIN:VEVENT
DTSTART;VALUE=DATE:20250507
DTEND;VALUE=DATE:20250512
DTSTAMP:20260422T165743
CREATED:20250122T090317Z
LAST-MODIFIED:20250122T090317Z
UID:2383-1746576000-1747007999@balitripandtour.com
SUMMARY:Bali Spirit Festival
DESCRIPTION:The BaliSpirit Festival was founded as a premier international and holistic wellness and world music destination event that contributes positively to the ecological health\, cultural vibrancy\, and overall vitality of Bali and greater Indonesia.
URL:https://balitripandtour.com/event/bali-spirit-festival/
LOCATION:Yoga Barn\, Jl. monkey Forest ubud\, gianyar\, Bali\, 80571\, Indonesia
ATTACH;FMTTYPE=image/jpeg:https://balitripandtour.com/wp-content/uploads/2024/12/53.jpg
END:VEVENT
BEGIN:VEVENT
DTSTART;TZID=Asia/Makassar:20250503T080000
DTEND;TZID=Asia/Makassar:20250503T170000
DTSTAMP:20260422T165743
CREATED:20250123T061506Z
LAST-MODIFIED:20250123T061506Z
UID:2416-1746259200-1746291600@balitripandtour.com
SUMMARY:MEKOTEK TRADITION
DESCRIPTION:Mekotek is one of the traditions of rejecting bad luck from Munggu Village\, Mengwi District\, Badung Regency\, Bali\, Indonesia. The Mekotek ceremony is carried out with the aim of asking for safety. Mekotek ceremony is also known as ngerebek. Mekotek is an ancestral heritage that is carried out from generation to generation to this day by Balinese Hindus. \nIn the beginning\, Mekotek was carried out to welcome the Mengwi Kingdom soldiers who came with a victory over the Blambangan Kingdom in Java and then became a tradition until now. During the Dutch rule in 1915\, Mekotek was stopped\, because the Dutch were worried that there would be a rebellion. However\, there was an outbreak of disease so Mekotek was held again to ward off disaster. \nThe Mekotek ceremony is held once every 6 months\, 210 days (based on the Hindu calendar) on Saturday Kliwon Kuningan right on the Kuningan holiday or after the Galungan holiday. In the past\, Mekotek celebrations used iron\, which gave fighting spirit to the battlefield or from the battlefield. However\, because many participants were injured\, the iron spear was replaced with a stick made of pulet wood that has been peeled of its skin and measured about 2-3.5 meters long. The participants are required to wear the traditional madya clothes of kancut and udeng batik and gather at the Munggu dalem temple. After gathering\, they perform prayers and express gratitude for the crops. After that\, all participants marched to the water source in Munggu village. This ceremony was attended by 2000 participants\, namely Munggu residents consisting of 15 banjars taking to the streets from the age of 12 to 60 years. The participants were divided into groups of 50 people each. Wooden sticks are carried\, pitted in the air to form a pyramid or cone. Those who have the guts climb to the top of the bundle of sticks and stand on top\, giving a pep talk to their group. The same is done by other groups. The command given by the person at the top of the stick is to hit the opposing group of sticks or other groups. This Mekotek tradition is accompanied by gamelan to encourage the participants.
URL:https://balitripandtour.com/event/mekotek-tradition/
LOCATION:Desa Munggu Badung\, Desa Munggu \, Mengwi \, Badung\, Badung\, Bali\, 80361\, Indonesia
ATTACH;FMTTYPE=image/jpeg:https://balitripandtour.com/wp-content/uploads/2025/01/img-17043286506595fdca86c9e.jpg
END:VEVENT
BEGIN:VEVENT
DTSTART;VALUE=DATE:20250428
DTEND;VALUE=DATE:20250502
DTSTAMP:20260422T165743
CREATED:20250123T055040Z
LAST-MODIFIED:20250123T055040Z
UID:2412-1745798400-1746143999@balitripandtour.com
SUMMARY:Semara Pura Festival
DESCRIPTION:The Semarapura Festival is held to commemorate the Puputan War. Klungkung which was the culmination of the Klungkung Kingdom’s war against the Dutch colonial occupation in 1908 to maintain independence. This festival is an annual event where each event will showcase various traditional art performances owned by Klungkung Regency. \nThe Semarapura Festival not only offers various types of typical Klungkung products such as endek cloth\, silver handicrafts\, and woven bamboo handicrafts. Semarapura Festival also presents various Balinese art and cultural performances that attract visitors’ attention. \nThe festival featured cultural attractions involving 650 people\, such as a solah barong Sebarung performance\, and Gong Kebyar performances for children\, adults\, and women. There is also entertainment that presents artists as well as MSME and culinary exhibitions that reach 120 stands. \nVarious tourism potentials in this area\, including temples\, beaches\, and natural beauty can be promoted through this event\, to attract tourists to visit Klungkung.
URL:https://balitripandtour.com/event/semara-pura-festival/
LOCATION:Taman kota Kelungkung\, Jl. Ahmad Yani No.4a\, Semarapura Kaja\, Kec. Klungkung\, Kabupaten Klungkung\, Bali 80711\, Kelungkung\, Bali\, 80711\, Indonesia
ATTACH;FMTTYPE=image/jpeg:https://balitripandtour.com/wp-content/uploads/2025/01/img-1704333802659611ea9aecf.jpg
END:VEVENT
BEGIN:VEVENT
DTSTART;TZID=Asia/Makassar:20250330T080000
DTEND;TZID=Asia/Makassar:20250330T150000
DTSTAMP:20260422T165743
CREATED:20250123T054052Z
LAST-MODIFIED:20250123T054052Z
UID:2408-1743321600-1743346800@balitripandtour.com
SUMMARY:Omed Omedan Ceremony
DESCRIPTION:The Omed-Omedan Ceremony\, also known as the “Kissing Tradition\,” is a unique and lively ritual celebrated by the youth of Banjar Kaja in Sesetan\, Denpasar\, Bali. Held annually on the day after Nyepi\, the Balinese Day of Silence\, this tradition symbolizes togetherness\, harmony\, and the spirit of renewal. \nKey Highlights: \n\nParticipants: Unmarried young men and women from the village\, aged 17-30\, gather to take part in the ceremony.\nThe Ritual: Participants are divided into two groups (male and female) and face each other in a playful tug-of-war-like setup. Amid cheers\, laughter\, and traditional music\, they are encouraged to embrace and kiss while being doused with water by the crowd.\nCultural Significance: The ceremony is believed to foster community bonds\, bring good fortune\, and ward off negative energies. It is also rooted in a local legend that highlights the importance of unity.
URL:https://balitripandtour.com/event/omed-omedan-ceremony/
LOCATION:Br. kaja Sesestan\, Jl. Raya Sesetan No.54\, Sesetan\, Denpasar Selatan\, Kota Denpasar\, Bali 80114\, Denpasar\, Bali\, 80114\, Indonesia
ATTACH;FMTTYPE=image/webp:https://balitripandtour.com/wp-content/uploads/2025/01/096391200_1490846143-20170329-Muda-mudi-Rayakan-Tradisi-Omed-omedan-Setelah-Hari-Raya-Nyepi-AP-1.webp
END:VEVENT
BEGIN:VEVENT
DTSTART;VALUE=DATE:20250328
DTEND;VALUE=DATE:20250329
DTSTAMP:20260422T165743
CREATED:20250123T052543Z
LAST-MODIFIED:20250123T052543Z
UID:2400-1743120000-1743206399@balitripandtour.com
SUMMARY:Ogoh-Ogoh Festival
DESCRIPTION:The Ogoh-Ogoh Festival is a vibrant and deeply symbolic event celebrated annually on the eve of Nyepi\, Bali’s Day of Silence. This unique festival features elaborate\, towering effigies called Ogoh-Ogoh\, crafted by local communities to represent malevolent spirits or negative energies. \nKey Highlights: \n\nCreation of Ogoh-Ogoh: These artistic masterpieces are made from bamboo\, papier-mâché\, and colorful decorations\, showcasing creativity and teamwork within Balinese villages.\nParade and Rituals: On the night before Nyepi\, the Ogoh-Ogoh are paraded through the streets with music\, dancing\, and theatrical performances\, creating a lively atmosphere.\nSymbolism: The procession is designed to scare away evil spirits and purify the environment in preparation for the reflective silence of Nyepi.\nBurning Ceremony: After the parade\, many Ogoh-Ogoh are ceremonially burned\, symbolizing the destruction of negativity and renewal of balance.
URL:https://balitripandtour.com/event/ogoh-ogoh-festival/
LOCATION:Catur muka Denpasar\, Jl. Gajah Mada\, Denpasar\, Bali\, 80361\, Indonesia
ATTACH;FMTTYPE=image/jpeg:https://balitripandtour.com/wp-content/uploads/2025/01/OGOH-OGOH.jpg
END:VEVENT
END:VCALENDAR